BEGIN:VCALENDAR
VERSION:2.0
CALSCALE:GREGORIAN
PRODID:adamgibbons/ics
METHOD:PUBLISH
X-PUBLISHED-TTL:PT1H
BEGIN:VEVENT
UID:66@sthlmpunk.party
SUMMARY:Brassepunkattack! LASSO (BR)\, PRISÃO\, SVART SAMTID
DTSTAMP:20260422T040102Z
DTSTART:20260507T170000Z
DTEND:20260507T200000Z
URL:https://sthlmpunk.party/event/brassepunkattack-lasso-br-prisao-svart-sa
	mtid
GEO:59.3159933;18.0826094
LOCATION:Kafé 44 - Tjärhovsgatan\, Södermalm\, Södermalms stadsdelsområde\,
	 Stockholm\, Stockholms kommun\, Stockholms län\, 116 28\, Sverige
STATUS:CONFIRMED
CATEGORIES:All ages,Diy,Hardcore,Hc,Punk,kafé44,lasso,prisao
END:VEVENT
END:VCALENDAR
